BEGIN:VCALENDAR
VERSION:2.0
PRODID:-//IGDA - ECPv6.15.18//NONSGML v1.0//EN
CALSCALE:GREGORIAN
METHOD:PUBLISH
X-WR-CALNAME:IGDA
X-ORIGINAL-URL:https://igda.org
X-WR-CALDESC:Events for IGDA
REFRESH-INTERVAL;VALUE=DURATION:PT1H
X-Robots-Tag:noindex
X-PUBLISHED-TTL:PT1H
BEGIN:VTIMEZONE
TZID:America/Los_Angeles
BEGIN:DAYLIGHT
TZOFFSETFROM:-0800
TZOFFSETTO:-0700
TZNAME:PDT
DTSTART:20220313T100000
END:DAYLIGHT
BEGIN:STANDARD
TZOFFSETFROM:-0700
TZOFFSETTO:-0800
TZNAME:PST
DTSTART:20221106T090000
END:STANDARD
BEGIN:DAYLIGHT
TZOFFSETFROM:-0800
TZOFFSETTO:-0700
TZNAME:PDT
DTSTART:20230312T100000
END:DAYLIGHT
BEGIN:STANDARD
TZOFFSETFROM:-0700
TZOFFSETTO:-0800
TZNAME:PST
DTSTART:20231105T090000
END:STANDARD
BEGIN:DAYLIGHT
TZOFFSETFROM:-0800
TZOFFSETTO:-0700
TZNAME:PDT
DTSTART:20240310T100000
END:DAYLIGHT
BEGIN:STANDARD
TZOFFSETFROM:-0700
TZOFFSETTO:-0800
TZNAME:PST
DTSTART:20241103T090000
END:STANDARD
END:VTIMEZONE
BEGIN:VEVENT
DTSTART;TZID=America/Los_Angeles:20230323T180000
DTEND;TZID=America/Los_Angeles:20230323T220000
DTSTAMP:20260424T204402
CREATED:20230315T013731Z
LAST-MODIFIED:20230315T014859Z
UID:10001478-1679594400-1679608800@igda.org
SUMMARY:IGDA + Unreal Engine + Modulate Mixer @ GDC 2023
DESCRIPTION:Event Details\nJoin IGDA\, Unreal Engine\, Modulate\, and other games industry communities over good food and drink\, memorable entertainment\, and inclusive and meaningful networking opportunities. \nActivities include: \n\nFree food and beverages\, including beer\, wine\, and mocktails\nNetworking opportunities with Unreal Engine developers\, IGDA global community leaders\, and game changers within the industry\nEvent bingo/passport activity card\nEntertainment (Karaoke\, Photobooth)\nConnect with event partners about their current projects\nGiveaways\n\nNote: This event includes designated alcohol and non-alcohol spaces. Attendees must abide by the Event Code of Conduct here. \n  \n\nClick here to register for this free event.\n\n\n  \n\nEvent Hosts:\n  \n\n\n\n\n\n\n\n\n\n\n\n\n\n\n\n \n\n\n\n\n\n\nThis event is proudly supported By:\n\n\n\n\n\n\n\n\n\n \n\n\n\n\n\n\n \n\n 
URL:https://igda.org/event/igda-unreal-engine-modulate-mixer-gdc-2023/
LOCATION:Children’s Creativity Museum\, 221 4th Street\, San Francisco\, CA\, 94103\, United States
ATTACH;FMTTYPE=image/png:https://igda-website.s3.us-east-2.amazonaws.com/wp-content/uploads/2023/03/14214847/IGDA-Unreal-Engine-Modulate-Mixer-at-GDC-2023-731-%C3%97-441-px-1.png
ORGANIZER;CN="IGDA HQ":MAILTO:jakin@igda.org
END:VEVENT
END:VCALENDAR