BEGIN:VCALENDAR
VERSION:2.0
PRODID:-//IGDA - ECPv6.15.18//NONSGML v1.0//EN
CALSCALE:GREGORIAN
METHOD:PUBLISH
X-ORIGINAL-URL:https://igda.org
X-WR-CALDESC:Events for IGDA
REFRESH-INTERVAL;VALUE=DURATION:PT1H
X-Robots-Tag:noindex
X-PUBLISHED-TTL:PT1H
BEGIN:VTIMEZONE
TZID:America/New_York
BEGIN:DAYLIGHT
TZOFFSETFROM:-0500
TZOFFSETTO:-0400
TZNAME:EDT
DTSTART:20250309T070000
END:DAYLIGHT
BEGIN:STANDARD
TZOFFSETFROM:-0400
TZOFFSETTO:-0500
TZNAME:EST
DTSTART:20251102T060000
END:STANDARD
BEGIN:DAYLIGHT
TZOFFSETFROM:-0500
TZOFFSETTO:-0400
TZNAME:EDT
DTSTART:20260308T070000
END:DAYLIGHT
BEGIN:STANDARD
TZOFFSETFROM:-0400
TZOFFSETTO:-0500
TZNAME:EST
DTSTART:20261101T060000
END:STANDARD
BEGIN:DAYLIGHT
TZOFFSETFROM:-0500
TZOFFSETTO:-0400
TZNAME:EDT
DTSTART:20270314T070000
END:DAYLIGHT
BEGIN:STANDARD
TZOFFSETFROM:-0400
TZOFFSETTO:-0500
TZNAME:EST
DTSTART:20271107T060000
END:STANDARD
END:VTIMEZONE
BEGIN:VTIMEZONE
TZID:America/Vancouver
BEGIN:DAYLIGHT
TZOFFSETFROM:-0800
TZOFFSETTO:-0700
TZNAME:PDT
DTSTART:20220313T100000
END:DAYLIGHT
BEGIN:STANDARD
TZOFFSETFROM:-0700
TZOFFSETTO:-0800
TZNAME:PST
DTSTART:20221106T090000
END:STANDARD
BEGIN:DAYLIGHT
TZOFFSETFROM:-0800
TZOFFSETTO:-0700
TZNAME:PDT
DTSTART:20230312T100000
END:DAYLIGHT
BEGIN:STANDARD
TZOFFSETFROM:-0700
TZOFFSETTO:-0800
TZNAME:PST
DTSTART:20231105T090000
END:STANDARD
BEGIN:DAYLIGHT
TZOFFSETFROM:-0800
TZOFFSETTO:-0700
TZNAME:PDT
DTSTART:20240310T100000
END:DAYLIGHT
BEGIN:STANDARD
TZOFFSETFROM:-0700
TZOFFSETTO:-0800
TZNAME:PST
DTSTART:20241103T090000
END:STANDARD
END:VTIMEZONE
BEGIN:VEVENT
DTSTART;TZID=America/New_York:20260204T180000
DTEND;TZID=America/New_York:20260204T220000
DTSTAMP:20260425T072833
CREATED:20260127T205423Z
LAST-MODIFIED:20260127T205423Z
UID:10001619-1770228000-1770242400@igda.org
SUMMARY:IGDA Vancouver Feb 2026 Meeting
DESCRIPTION:First meeting of 2026 is set!
URL:https://igda.org/event/igda-vancouver-feb-2026-meeting/
LOCATION:The Rec Room\, Brentwood Mall Center\, Burnaby\, BC\, Canada
ATTACH;FMTTYPE=image/png:https://igda.org/wp-content/uploads/2026/01/socials_banner_facebook_2026Feb_RecRoom.png
ORGANIZER;CN="IGDA Vancouver":MAILTO:vancouver@igda.org
END:VEVENT
BEGIN:VEVENT
DTSTART;TZID=America/Vancouver:20230615T183000
DTEND;TZID=America/Vancouver:20230615T210000
DTSTAMP:20260425T072833
CREATED:20230530T013208Z
LAST-MODIFIED:20230530T013208Z
UID:10001495-1686853800-1686862800@igda.org
SUMMARY:IGDA Vancouver June Meetup
DESCRIPTION:IGDA Vancouver monthly social meetup for June. Open to everyone in the games industry in (or visiting) Vancouver.
URL:https://igda.org/event/igda-vancouver-june-meetup/
LOCATION:St. Augustine’s\, 2360 Commercial Dr\, Vancouver\, BC\, V5N 4B7\, Canada
ATTACH;FMTTYPE=image/jpeg:https://igda-website.s3.us-east-2.amazonaws.com/wp-content/uploads/2023/05/29213208/IGDA-Vancouver-1.jpg
ORGANIZER;CN="IGDA Vancouver":MAILTO:vancouver@igda.org
END:VEVENT
BEGIN:VEVENT
DTSTART;TZID=America/Vancouver:20230420T183000
DTEND;TZID=America/Vancouver:20230420T210000
DTSTAMP:20260425T072833
CREATED:20230411T200042Z
LAST-MODIFIED:20230411T200042Z
UID:10001483-1682015400-1682024400@igda.org
SUMMARY:IGDA Vancouver April Meetup
DESCRIPTION:IGDA Vancouver’s monthly casual meetup for any and all game developers in the area.
URL:https://igda.org/event/igda-vancouver-april-meetup/
LOCATION:St. Augustine’s\, 2360 Commercial Dr\, Vancouver\, BC\, V5N 4B7\, Canada
ATTACH;FMTTYPE=image/jpeg:https://igda-website.s3.us-east-2.amazonaws.com/wp-content/uploads/2023/04/11160042/IGDA-Vancouver.jpg
ORGANIZER;CN="IGDA Vancouver":MAILTO:vancouver@igda.org
END:VEVENT
BEGIN:VEVENT
DTSTART;TZID=America/Vancouver:20230316T183000
DTEND;TZID=America/Vancouver:20230316T210000
DTSTAMP:20260425T072833
CREATED:20230308T034440Z
LAST-MODIFIED:20230308T035710Z
UID:10001476-1678991400-1679000400@igda.org
SUMMARY:IGDA Vancouver March Meetup
DESCRIPTION:Come join your local game developer friends to swap pandemic tales and development highlights! \nThis will be a casual networking event at St. Augustine’s\, located conveniently near the SkyTrain. Please be sure to RSVP so we may inform the venue of our group size! \nSt. Augustine’s \n2360 Commercial Drive Vancouver\, BC\, Canada V5N 4B7 \nHosted by IGDA Vancouver.
URL:https://igda.org/event/igda-vancouver-march-meetup/
LOCATION:St. Augustine’s\, 2360 Commercial Dr\, Vancouver\, BC\, V5N 4B7\, Canada
ATTACH;FMTTYPE=image/jpeg:https://igda-website.s3.us-east-2.amazonaws.com/wp-content/uploads/2023/03/07224440/igda-vancouver-logo.jpg
ORGANIZER;CN="IGDA Vancouver":MAILTO:vancouver@igda.org
END:VEVENT
BEGIN:VEVENT
DTSTART;TZID=America/Vancouver:20230119T183000
DTEND;TZID=America/Vancouver:20230119T210000
DTSTAMP:20260425T072833
CREATED:20230106T185319Z
LAST-MODIFIED:20230106T185319Z
UID:10001467-1674153000-1674162000@igda.org
SUMMARY:IGDA Vancouver January Meetup
DESCRIPTION:Come join your local game developer friends to swap pandemic tales and development highlights!\nThis will be a casual networking event at St. Augustine’s\, located conveniently near the SkyTrain.\n\nPlease be sure to RSVP (Facebook | LinkedIn) so we may inform the venue of our group size!
URL:https://igda.org/event/igda-vancouver-january-meetup/
LOCATION:St. Augustine’s\, 2360 Commercial Dr\, Vancouver\, BC\, V5N 4B7\, Canada
ATTACH;FMTTYPE=image/png:https://igda-website.s3.us-east-2.amazonaws.com/wp-content/uploads/2023/01/06135319/1670953687767.png
ORGANIZER;CN="IGDA Vancouver":MAILTO:vancouver@igda.org
END:VEVENT
END:VCALENDAR