BEGIN:VCALENDAR
VERSION:2.0
PRODID:-//IGDA - ECPv6.15.18//NONSGML v1.0//EN
CALSCALE:GREGORIAN
METHOD:PUBLISH
X-WR-CALNAME:IGDA
X-ORIGINAL-URL:https://igda.org
X-WR-CALDESC:Events for IGDA
REFRESH-INTERVAL;VALUE=DURATION:PT1H
X-Robots-Tag:noindex
X-PUBLISHED-TTL:PT1H
BEGIN:VTIMEZONE
TZID:Europe/Istanbul
BEGIN:STANDARD
TZOFFSETFROM:+0300
TZOFFSETTO:+0300
TZNAME:+03
DTSTART:20240101T000000
END:STANDARD
END:VTIMEZONE
BEGIN:VEVENT
DTSTART;TZID=Europe/Istanbul:20250411T090000
DTEND;TZID=Europe/Istanbul:20250413T170000
DTSTAMP:20260423T120919
CREATED:20250316T132317Z
LAST-MODIFIED:20250316T132317Z
UID:10001591-1744362000-1744563600@igda.org
SUMMARY:GGJ Next BAL
DESCRIPTION:This year\, Global Game Jam Next (GGJ Next) will be proudly organized by IGDA İzmir/Turkey\, in collaboration with Bornova Anatolian High School Game Development Community. \nAs part of this exciting initiative\, we aim to empower young and aspiring game developers by providing a structured\, inspiring\, and collaborative environment where they can learn\, create\, and connect with like-minded peers. GGJ Next is a unique opportunity tailored specifically for students and young developers to experience the thrill of game development within a supportive and engaging community. \n📅 Event Dates: \n🕹 Start: 11 April 2025 \n🎮 End: 13 April 2025 \n⚠ Important: All approved participants must provide a “Muvafakatname” (Parental Consent Form) to join the event.
URL:https://igda.org/event/ggj-next-bal/
ORGANIZER;CN="IGDA Turkey":MAILTO:izmir@igda.org
END:VEVENT
END:VCALENDAR